BEGIN:VCALENDAR
VERSION:2.0
PRODID:-//Journey to Joy - ECPv6.15.20//NONSGML v1.0//EN
CALSCALE:GREGORIAN
METHOD:PUBLISH
X-ORIGINAL-URL:https://journeytojoy.tv
X-WR-CALDESC:Events for Journey to Joy
REFRESH-INTERVAL;VALUE=DURATION:PT1H
X-Robots-Tag:noindex
X-PUBLISHED-TTL:PT1H
BEGIN:VTIMEZONE
TZID:UTC
BEGIN:STANDARD
TZOFFSETFROM:+0000
TZOFFSETTO:+0000
TZNAME:UTC
DTSTART:20250101T000000
END:STANDARD
END:VTIMEZONE
BEGIN:VEVENT
DTSTART;TZID=UTC:20260423T000000
DTEND;TZID=UTC:20260423T235959
DTSTAMP:20260423T053205
CREATED:20120607T192416Z
LAST-MODIFIED:20260409T184117Z
UID:747-1776902400-1776988799@journeytojoy.tv
SUMMARY:I am Generous
DESCRIPTION:Proverbs 3:27-28\n1 Timothy 6:17-19\nMatthew 25:35-40\nProverbs 19:17\nJames 2:14-17\n2 Corinthians 8:3-5 (NLT)\nMicah 6:8 (NLT) \nTweet
URL:https://journeytojoy.tv/event/i-am-productive/
ATTACH;FMTTYPE=image/jpeg:https://journeytojoy.tv/WordPress/wp-content/uploads/2024/04/Final-Fronts-Gb9.jpg
END:VEVENT
END:VCALENDAR