BEGIN:VCALENDAR
VERSION:2.0
PRODID:-//Journey to Joy - ECPv6.15.20//NONSGML v1.0//EN
CALSCALE:GREGORIAN
METHOD:PUBLISH
X-WR-CALNAME:Journey to Joy
X-ORIGINAL-URL:https://journeytojoy.tv
X-WR-CALDESC:Events for Journey to Joy
REFRESH-INTERVAL;VALUE=DURATION:PT1H
X-Robots-Tag:noindex
X-PUBLISHED-TTL:PT1H
BEGIN:VTIMEZONE
TZID:UTC
BEGIN:STANDARD
TZOFFSETFROM:+0000
TZOFFSETTO:+0000
TZNAME:UTC
DTSTART:20250101T000000
END:STANDARD
END:VTIMEZONE
BEGIN:VEVENT
DTSTART;TZID=UTC:20260508T000000
DTEND;TZID=UTC:20260508T235959
DTSTAMP:20260423T082837
CREATED:20120607T200114Z
LAST-MODIFIED:20260409T184636Z
UID:759-1778198400-1778284799@journeytojoy.tv
SUMMARY:I am Content
DESCRIPTION:Philippians 4:11-13\nPhilippians 4:19\nHebrews 13:5-6\n1 Timothy 6:6-10\nMatthew 11:28-30\nPsalm 34:7-9 (NLT)\nPsalm 4:8 \nTweet
URL:https://journeytojoy.tv/event/i-am-content/
ATTACH;FMTTYPE=image/jpeg:https://journeytojoy.tv/WordPress/wp-content/uploads/2024/04/Final-Fronts-Gb3.jpg
END:VEVENT
BEGIN:VEVENT
DTSTART;TZID=UTC:20260509T000000
DTEND;TZID=UTC:20260509T235959
DTSTAMP:20260423T082837
CREATED:20120607T192905Z
LAST-MODIFIED:20260409T184616Z
UID:750-1778284800-1778371199@journeytojoy.tv
SUMMARY:I have Peace
DESCRIPTION:Matthew 6:25-34\nPhilippians 4:6-7\nIsaiah 55:8-12\nJohn 14:27 (AMP)\n2 Thessalonians 3:3 (NLT)\nIsaiah 32:17-18\nPsalm 46:1-5 \nTweet
URL:https://journeytojoy.tv/event/i-have-peace/
ATTACH;FMTTYPE=image/jpeg:https://journeytojoy.tv/WordPress/wp-content/uploads/2024/04/Final-Fronts-Gb17.jpg
END:VEVENT
BEGIN:VEVENT
DTSTART;TZID=UTC:20260510T000000
DTEND;TZID=UTC:20260510T235959
DTSTAMP:20260423T082837
CREATED:20120607T213447Z
LAST-MODIFIED:20260409T184530Z
UID:778-1778371200-1778457599@journeytojoy.tv
SUMMARY:I am an Overcomer!
DESCRIPTION:John 16:33\nPsalm 32:7\nIsaiah 46:4\nGenesis 50:20\nDeuteronomy 28:6-7\nPsalm 18:6\, vs 16-19\nMatthew 16:19 \nTweet
URL:https://journeytojoy.tv/event/i-am-an-overcomer/
ATTACH;FMTTYPE=image/jpeg:https://journeytojoy.tv/WordPress/wp-content/uploads/2012/06/Final-Fronts-Od16.jpg
END:VEVENT
BEGIN:VEVENT
DTSTART;TZID=UTC:20260531T000000
DTEND;TZID=UTC:20260531T235959
DTSTAMP:20260423T082837
CREATED:20120607T185113Z
LAST-MODIFIED:20260409T183819Z
UID:741-1780185600-1780271999@journeytojoy.tv
SUMMARY:I am Full of Joy
DESCRIPTION:Galatians 5:22-23\nPsalm 30:5\nProverbs 17:22\nPsalm 37:4-5 (NASB)\nPsalm 34:1-5\nLamentations 3:22-23\nEphesians 3:16-20 \nTweet
URL:https://journeytojoy.tv/event/i-am-full-of-joy/
ATTACH;FMTTYPE=image/jpeg:https://journeytojoy.tv/WordPress/wp-content/uploads/2012/06/Final-Fronts-Od31.jpg
END:VEVENT
END:VCALENDAR