BEGIN:VCALENDAR
VERSION:2.0
PRODID:-//Journey to Joy - ECPv6.15.20//NONSGML v1.0//EN
CALSCALE:GREGORIAN
METHOD:PUBLISH
X-ORIGINAL-URL:https://journeytojoy.tv
X-WR-CALDESC:Events for Journey to Joy
REFRESH-INTERVAL;VALUE=DURATION:PT1H
X-Robots-Tag:noindex
X-PUBLISHED-TTL:PT1H
BEGIN:VTIMEZONE
TZID:UTC
BEGIN:STANDARD
TZOFFSETFROM:+0000
TZOFFSETTO:+0000
TZNAME:UTC
DTSTART:20250101T000000
END:STANDARD
END:VTIMEZONE
BEGIN:VEVENT
DTSTART;TZID=UTC:20260508T000000
DTEND;TZID=UTC:20260508T235959
DTSTAMP:20260423T065015
CREATED:20120607T200114Z
LAST-MODIFIED:20260409T184636Z
UID:759-1778198400-1778284799@journeytojoy.tv
SUMMARY:I am Content
DESCRIPTION:Philippians 4:11-13\nPhilippians 4:19\nHebrews 13:5-6\n1 Timothy 6:6-10\nMatthew 11:28-30\nPsalm 34:7-9 (NLT)\nPsalm 4:8 \nTweet
URL:https://journeytojoy.tv/event/i-am-content/
ATTACH;FMTTYPE=image/jpeg:https://journeytojoy.tv/WordPress/wp-content/uploads/2024/04/Final-Fronts-Gb3.jpg
END:VEVENT
END:VCALENDAR