BEGIN:VCALENDAR
VERSION:2.0
PRODID:-//Journey to Joy - ECPv6.15.20//NONSGML v1.0//EN
CALSCALE:GREGORIAN
METHOD:PUBLISH
X-WR-CALNAME:Journey to Joy
X-ORIGINAL-URL:https://journeytojoy.tv
X-WR-CALDESC:Events for Journey to Joy
REFRESH-INTERVAL;VALUE=DURATION:PT1H
X-Robots-Tag:noindex
X-PUBLISHED-TTL:PT1H
BEGIN:VTIMEZONE
TZID:UTC
BEGIN:STANDARD
TZOFFSETFROM:+0000
TZOFFSETTO:+0000
TZNAME:UTC
DTSTART:20250101T000000
END:STANDARD
END:VTIMEZONE
BEGIN:VEVENT
DTSTART;TZID=UTC:20260507T000000
DTEND;TZID=UTC:20260507T235959
DTSTAMP:20260423T064955
CREATED:20120607T194558Z
LAST-MODIFIED:20260409T184657Z
UID:754-1778112000-1778198399@journeytojoy.tv
SUMMARY:I have Purpose and Direction
DESCRIPTION:Jeremiah 29:11-13\nIsaiah 43:18-19\nPsalm 37:23-24 (TLB)\nJeremiah 33:3\nProverbs 3:5-6\nIsaiah 30:21\nExodus 23:20-21 (NLT) \nTweet
URL:https://journeytojoy.tv/event/i-have-purpose-and-direction/
ATTACH;FMTTYPE=image/jpeg:https://journeytojoy.tv/WordPress/wp-content/uploads/2024/04/Final-Fronts-Gb19.jpg
END:VEVENT
END:VCALENDAR