BEGIN:VCALENDAR
VERSION:2.0
PRODID:-//Journey to Joy - ECPv6.15.20//NONSGML v1.0//EN
CALSCALE:GREGORIAN
METHOD:PUBLISH
X-ORIGINAL-URL:https://journeytojoy.tv
X-WR-CALDESC:Events for Journey to Joy
REFRESH-INTERVAL;VALUE=DURATION:PT1H
X-Robots-Tag:noindex
X-PUBLISHED-TTL:PT1H
BEGIN:VTIMEZONE
TZID:UTC
BEGIN:STANDARD
TZOFFSETFROM:+0000
TZOFFSETTO:+0000
TZNAME:UTC
DTSTART:20250101T000000
END:STANDARD
END:VTIMEZONE
BEGIN:VEVENT
DTSTART;TZID=UTC:20260503T000000
DTEND;TZID=UTC:20260503T235959
DTSTAMP:20260423T051700
CREATED:20120607T195737Z
LAST-MODIFIED:20260409T184834Z
UID:757-1777766400-1777852799@journeytojoy.tv
SUMMARY:I am Healed
DESCRIPTION:Isaiah 61:1-3\, vs 7\nPsalm 34:17-19\nIsaiah 53:5-6\nPsalm 103:1-5\nPsalm 22:24\nJames 5:13-16 (NLT)\nJeremiah 33:6-8 \nTweet
URL:https://journeytojoy.tv/event/i-am-healed/
ATTACH;FMTTYPE=image/jpeg:https://journeytojoy.tv/WordPress/wp-content/uploads/2024/04/Final-Fronts-Gb10.jpg
END:VEVENT
END:VCALENDAR