BEGIN:VCALENDAR
VERSION:2.0
PRODID:-//Journey to Joy - ECPv6.15.20//NONSGML v1.0//EN
CALSCALE:GREGORIAN
METHOD:PUBLISH
X-WR-CALNAME:Journey to Joy
X-ORIGINAL-URL:https://journeytojoy.tv
X-WR-CALDESC:Events for Journey to Joy
REFRESH-INTERVAL;VALUE=DURATION:PT1H
X-Robots-Tag:noindex
X-PUBLISHED-TTL:PT1H
BEGIN:VTIMEZONE
TZID:UTC
BEGIN:STANDARD
TZOFFSETFROM:+0000
TZOFFSETTO:+0000
TZNAME:UTC
DTSTART:20250101T000000
END:STANDARD
END:VTIMEZONE
BEGIN:VEVENT
DTSTART;TZID=UTC:20260428T000000
DTEND;TZID=UTC:20260428T235959
DTSTAMP:20260423T050310
CREATED:20120607T200232Z
LAST-MODIFIED:20260409T183954Z
UID:761-1777334400-1777420799@journeytojoy.tv
SUMMARY:I am Resourceful
DESCRIPTION:Ephesians 5:15-17\nDeuteronomy 8:18\nPhilippians 2:3-4\nProverbs 11:25\n1 Peter 4:8-11\nMatthew 25:14-29 (NLT)\nEsther 4:14 \nTweet
URL:https://journeytojoy.tv/event/i-am-resourceful/
ATTACH;FMTTYPE=image/jpeg:https://journeytojoy.tv/WordPress/wp-content/uploads/2024/04/Final-Fronts-Gb21.jpg
END:VEVENT
END:VCALENDAR