BEGIN:VCALENDAR
VERSION:2.0
PRODID:-//Journey to Joy - ECPv6.15.20//NONSGML v1.0//EN
CALSCALE:GREGORIAN
METHOD:PUBLISH
X-ORIGINAL-URL:https://journeytojoy.tv
X-WR-CALDESC:Events for Journey to Joy
REFRESH-INTERVAL;VALUE=DURATION:PT1H
X-Robots-Tag:noindex
X-PUBLISHED-TTL:PT1H
BEGIN:VTIMEZONE
TZID:UTC
BEGIN:STANDARD
TZOFFSETFROM:+0000
TZOFFSETTO:+0000
TZNAME:UTC
DTSTART:20250101T000000
END:STANDARD
END:VTIMEZONE
BEGIN:VEVENT
DTSTART;TZID=UTC:20260425T000000
DTEND;TZID=UTC:20260425T235959
DTSTAMP:20260423T051610
CREATED:20120607T191618Z
LAST-MODIFIED:20260409T184045Z
UID:746-1777075200-1777161599@journeytojoy.tv
SUMMARY:I am Wise
DESCRIPTION:James 1:5-8\nProverbs 19:20-21\nProverbs 12:15\nJames 3:13\, vs 17 (NLT)\nPsalm 5:3\nPsalm 19:7-11\nPsalm 119:11 \nTweet
URL:https://journeytojoy.tv/event/i-am-wise/
ATTACH;FMTTYPE=image/jpeg:https://journeytojoy.tv/WordPress/wp-content/uploads/2024/09/Final-Fronts-J30.jpg
END:VEVENT
END:VCALENDAR