BEGIN:VCALENDAR
VERSION:2.0
PRODID:-//Journey to Joy - ECPv6.15.20//NONSGML v1.0//EN
CALSCALE:GREGORIAN
METHOD:PUBLISH
X-ORIGINAL-URL:https://journeytojoy.tv
X-WR-CALDESC:Events for Journey to Joy
REFRESH-INTERVAL;VALUE=DURATION:PT1H
X-Robots-Tag:noindex
X-PUBLISHED-TTL:PT1H
BEGIN:VTIMEZONE
TZID:UTC
BEGIN:STANDARD
TZOFFSETFROM:+0000
TZOFFSETTO:+0000
TZNAME:UTC
DTSTART:20250101T000000
END:STANDARD
END:VTIMEZONE
BEGIN:VEVENT
DTSTART;TZID=UTC:20260424T000000
DTEND;TZID=UTC:20260424T235959
DTSTAMP:20260423T051611
CREATED:20120607T210652Z
LAST-MODIFIED:20260409T184101Z
UID:774-1776988800-1777075199@journeytojoy.tv
SUMMARY:I am Responsible
DESCRIPTION:Malachi 3:10\nHaggai 1:5-6\, vs 9\n2 Corinthians 9:6-8 (NLT)\nProverbs 3:9-10\nMatthew 6:19-21\nLuke 6:38\nLuke 12:15 \nTweet
URL:https://journeytojoy.tv/event/i-am-responsible/
ATTACH;FMTTYPE=image/jpeg:https://journeytojoy.tv/WordPress/wp-content/uploads/2024/04/Final-Fronts-Gb22.jpg
END:VEVENT
END:VCALENDAR