BEGIN:VCALENDAR
VERSION:2.0
PRODID:-//Journey to Joy - ECPv6.15.20//NONSGML v1.0//EN
CALSCALE:GREGORIAN
METHOD:PUBLISH
X-ORIGINAL-URL:https://journeytojoy.tv
X-WR-CALDESC:Events for Journey to Joy
REFRESH-INTERVAL;VALUE=DURATION:PT1H
X-Robots-Tag:noindex
X-PUBLISHED-TTL:PT1H
BEGIN:VTIMEZONE
TZID:UTC
BEGIN:STANDARD
TZOFFSETFROM:+0000
TZOFFSETTO:+0000
TZNAME:UTC
DTSTART:20250101T000000
END:STANDARD
END:VTIMEZONE
BEGIN:VEVENT
DTSTART;TZID=UTC:20260422T000000
DTEND;TZID=UTC:20260422T235959
DTSTAMP:20260423T051702
CREATED:20120607T201245Z
LAST-MODIFIED:20260409T184132Z
UID:763-1776816000-1776902399@journeytojoy.tv
SUMMARY:I am Humble
DESCRIPTION:Psalm 4:4 (NLT)\nMatthew 7:1-5\nRomans 12:17-21\nColossians 3:12-15\nPsalm 19:12-13\n1 Peter 2:21-23\n2 Corinthians 7:10-11 \nTweet
URL:https://journeytojoy.tv/event/i-am-humble/
ATTACH;FMTTYPE=image/jpeg:https://journeytojoy.tv/WordPress/wp-content/uploads/2024/04/Final-Fronts-Gb13.jpg
END:VEVENT
END:VCALENDAR