BEGIN:VCALENDAR
VERSION:2.0
PRODID:-//Journey to Joy - ECPv6.15.20//NONSGML v1.0//EN
CALSCALE:GREGORIAN
METHOD:PUBLISH
X-WR-CALNAME:Journey to Joy
X-ORIGINAL-URL:https://journeytojoy.tv
X-WR-CALDESC:Events for Journey to Joy
REFRESH-INTERVAL;VALUE=DURATION:PT1H
X-Robots-Tag:noindex
X-PUBLISHED-TTL:PT1H
BEGIN:VTIMEZONE
TZID:UTC
BEGIN:STANDARD
TZOFFSETFROM:+0000
TZOFFSETTO:+0000
TZNAME:UTC
DTSTART:20250101T000000
END:STANDARD
END:VTIMEZONE
BEGIN:VEVENT
DTSTART;TZID=UTC:20260421T000000
DTEND;TZID=UTC:20260421T235959
DTSTAMP:20260423T051459
CREATED:20120607T210330Z
LAST-MODIFIED:20260409T184148Z
UID:773-1776729600-1776815999@journeytojoy.tv
SUMMARY:I am Honest
DESCRIPTION:Hebrews 4:12-13\nLuke 8:17\nEphesians 4:25-27\nColossians 3:9-10\nMatthew 12:33-37\nPsalm 34:13-14 (NLT)\nJohn 3:19-21 \nTweet
URL:https://journeytojoy.tv/event/i-am-honest/
ATTACH;FMTTYPE=image/jpeg:https://journeytojoy.tv/WordPress/wp-content/uploads/2024/04/Final-Fronts-Gb11.jpg
END:VEVENT
END:VCALENDAR