BEGIN:VCALENDAR
VERSION:2.0
PRODID:-//Journey to Joy - ECPv6.15.20//NONSGML v1.0//EN
CALSCALE:GREGORIAN
METHOD:PUBLISH
X-WR-CALNAME:Journey to Joy
X-ORIGINAL-URL:https://journeytojoy.tv
X-WR-CALDESC:Events for Journey to Joy
REFRESH-INTERVAL;VALUE=DURATION:PT1H
X-Robots-Tag:noindex
X-PUBLISHED-TTL:PT1H
BEGIN:VTIMEZONE
TZID:UTC
BEGIN:STANDARD
TZOFFSETFROM:+0000
TZOFFSETTO:+0000
TZNAME:UTC
DTSTART:20250101T000000
END:STANDARD
END:VTIMEZONE
BEGIN:VEVENT
DTSTART;TZID=UTC:20260419T000000
DTEND;TZID=UTC:20260419T235959
DTSTAMP:20260423T050403
CREATED:20120607T192534Z
LAST-MODIFIED:20260409T184220Z
UID:748-1776556800-1776643199@journeytojoy.tv
SUMMARY:I am Diligent and Persistent
DESCRIPTION:1 Corinthians 15:58\nGalatians 6:7-9\nJames 1:2-4\n1 Peter 1:6-7 (NASB)\nPsalm 13\n1 Peter 5:6-10\nJohn 12:27-28 \nTweet
URL:https://journeytojoy.tv/event/i-am-diligent-and-persistent/
ATTACH;FMTTYPE=image/jpeg:https://journeytojoy.tv/WordPress/wp-content/uploads/2024/04/Final-Fronts-Gb4.jpg
END:VEVENT
END:VCALENDAR