BEGIN:VCALENDAR
VERSION:2.0
PRODID:-//Journey to Joy - ECPv6.15.20//NONSGML v1.0//EN
CALSCALE:GREGORIAN
METHOD:PUBLISH
X-ORIGINAL-URL:https://journeytojoy.tv
X-WR-CALDESC:Events for Journey to Joy
REFRESH-INTERVAL;VALUE=DURATION:PT1H
X-Robots-Tag:noindex
X-PUBLISHED-TTL:PT1H
BEGIN:VTIMEZONE
TZID:UTC
BEGIN:STANDARD
TZOFFSETFROM:+0000
TZOFFSETTO:+0000
TZNAME:UTC
DTSTART:20250101T000000
END:STANDARD
END:VTIMEZONE
BEGIN:VEVENT
DTSTART;TZID=UTC:20260418T000000
DTEND;TZID=UTC:20260418T235959
DTSTAMP:20260423T051610
CREATED:20120607T193606Z
LAST-MODIFIED:20260409T184240Z
UID:751-1776470400-1776556799@journeytojoy.tv
SUMMARY:I have Self-Control
DESCRIPTION:1 Corinthians 6:12 (AMP)\n1 Corinthians 10:13\nProverbs 25:28 (NLT)\n1 Peter 1:13-16\nGalatians 5:16-17\nRomans 6:1-2\nRomans 7:14-25 (NLT) \nTweet
URL:https://journeytojoy.tv/event/i-have-self-control/
ATTACH;FMTTYPE=image/jpeg:https://journeytojoy.tv/WordPress/wp-content/uploads/2024/04/Final-Fronts-Gb23.jpg
END:VEVENT
END:VCALENDAR