BEGIN:VCALENDAR
VERSION:2.0
PRODID:-//Journey to Joy - ECPv6.15.20//NONSGML v1.0//EN
CALSCALE:GREGORIAN
METHOD:PUBLISH
X-ORIGINAL-URL:https://journeytojoy.tv
X-WR-CALDESC:Events for Journey to Joy
REFRESH-INTERVAL;VALUE=DURATION:PT1H
X-Robots-Tag:noindex
X-PUBLISHED-TTL:PT1H
BEGIN:VTIMEZONE
TZID:UTC
BEGIN:STANDARD
TZOFFSETFROM:+0000
TZOFFSETTO:+0000
TZNAME:UTC
DTSTART:20250101T000000
END:STANDARD
END:VTIMEZONE
BEGIN:VEVENT
DTSTART;TZID=UTC:20260417T000000
DTEND;TZID=UTC:20260417T235959
DTSTAMP:20260423T051522
CREATED:20120610T045039Z
LAST-MODIFIED:20260409T184256Z
UID:1098-1776384000-1776470399@journeytojoy.tv
SUMMARY:I am Disciplined
DESCRIPTION:Hebrews 12:11\nDeuteronomy 30:11-16\, vs 19\nProverbs 12:1\n1 Corinthians 15:10\nHebrews 10:35-39\nLuke 16:10 (NLT)\nGalatians 6:3-5 \nTweet
URL:https://journeytojoy.tv/event/i-am-disciplined-2/
ATTACH;FMTTYPE=image/jpeg:https://journeytojoy.tv/WordPress/wp-content/uploads/2024/04/Final-Fronts-Gb5.jpg
END:VEVENT
END:VCALENDAR