BEGIN:VCALENDAR
VERSION:2.0
PRODID:-//Journey to Joy - ECPv6.15.20//NONSGML v1.0//EN
CALSCALE:GREGORIAN
METHOD:PUBLISH
X-WR-CALNAME:Journey to Joy
X-ORIGINAL-URL:https://journeytojoy.tv
X-WR-CALDESC:Events for Journey to Joy
REFRESH-INTERVAL;VALUE=DURATION:PT1H
X-Robots-Tag:noindex
X-PUBLISHED-TTL:PT1H
BEGIN:VTIMEZONE
TZID:UTC
BEGIN:STANDARD
TZOFFSETFROM:+0000
TZOFFSETTO:+0000
TZNAME:UTC
DTSTART:20250101T000000
END:STANDARD
END:VTIMEZONE
BEGIN:VEVENT
DTSTART;TZID=UTC:20260414T000000
DTEND;TZID=UTC:20260414T235959
DTSTAMP:20260423T050310
CREATED:20120607T195538Z
LAST-MODIFIED:20260409T184355Z
UID:756-1776124800-1776211199@journeytojoy.tv
SUMMARY:I have Hope
DESCRIPTION:Romans 4:20-21\nRomans 8:24-25\nIsaiah 46:9-11\nNumbers 23:19\n1 Thessalonians 5:24\nPsalm 116:1-2 (NLT)\nPsalm 77:1-19 \nTweet
URL:https://journeytojoy.tv/event/i-have-hope/
ATTACH;FMTTYPE=image/jpeg:https://journeytojoy.tv/WordPress/wp-content/uploads/2024/04/Final-Fronts-Gb12.jpg
END:VEVENT
END:VCALENDAR