BEGIN:VCALENDAR
VERSION:2.0
PRODID:-//Journey to Joy - ECPv6.15.20//NONSGML v1.0//EN
CALSCALE:GREGORIAN
METHOD:PUBLISH
X-ORIGINAL-URL:https://journeytojoy.tv
X-WR-CALDESC:Events for Journey to Joy
REFRESH-INTERVAL;VALUE=DURATION:PT1H
X-Robots-Tag:noindex
X-PUBLISHED-TTL:PT1H
BEGIN:VTIMEZONE
TZID:UTC
BEGIN:STANDARD
TZOFFSETFROM:+0000
TZOFFSETTO:+0000
TZNAME:UTC
DTSTART:20250101T000000
END:STANDARD
END:VTIMEZONE
BEGIN:VEVENT
DTSTART;TZID=UTC:20260413T000000
DTEND;TZID=UTC:20260413T235959
DTSTAMP:20260423T050816
CREATED:20120607T213100Z
LAST-MODIFIED:20260409T184417Z
UID:777-1776038400-1776124799@journeytojoy.tv
SUMMARY:I am Resilient
DESCRIPTION:2 Corinthians 4:7-9\, vs 16-18\nPsalm 40:1-3\nPsalm 27:1\n2 Corinthians 1:8-10 (NLT)\n2 Corinthians 12:9-10\n1 Peter 4:12-13\nZechariah 9:12 (NLT) \nTweet
URL:https://journeytojoy.tv/event/i-am-resilant/
ATTACH;FMTTYPE=image/jpeg:https://journeytojoy.tv/WordPress/wp-content/uploads/2024/04/Final-Fronts-Gb20.jpg
END:VEVENT
END:VCALENDAR