BEGIN:VCALENDAR
VERSION:2.0
PRODID:-//Journey to Joy - ECPv6.15.20//NONSGML v1.0//EN
CALSCALE:GREGORIAN
METHOD:PUBLISH
X-ORIGINAL-URL:https://journeytojoy.tv
X-WR-CALDESC:Events for Journey to Joy
REFRESH-INTERVAL;VALUE=DURATION:PT1H
X-Robots-Tag:noindex
X-PUBLISHED-TTL:PT1H
BEGIN:VTIMEZONE
TZID:UTC
BEGIN:STANDARD
TZOFFSETFROM:+0000
TZOFFSETTO:+0000
TZNAME:UTC
DTSTART:20250101T000000
END:STANDARD
END:VTIMEZONE
BEGIN:VEVENT
DTSTART;TZID=UTC:20260411T000000
DTEND;TZID=UTC:20260411T235959
DTSTAMP:20260423T051609
CREATED:20120607T184838Z
LAST-MODIFIED:20260409T184503Z
UID:739-1775865600-1775951999@journeytojoy.tv
SUMMARY:I am Capable
DESCRIPTION:Isaiah 40:28-29\n2 Corinthians 10:4-5\nEphesians 6:10-13\nIsaiah 54:17\nPsalm 18:29-36\n1 John 5:14-15\nHebrews 4:15-16 \nTweet
URL:https://journeytojoy.tv/event/i-am-capable/
ATTACH;FMTTYPE=image/jpeg:https://journeytojoy.tv/WordPress/wp-content/uploads/2024/04/Final-Fronts-Gb.jpg
END:VEVENT
END:VCALENDAR